BEGIN:VCALENDAR
VERSION:2.0
PRODID:-//Schützenverein Neenstetten 1967 e. V. - ECPv5.16.1.1//NONSGML v1.0//EN
CALSCALE:GREGORIAN
METHOD:PUBLISH
X-WR-CALNAME:Schützenverein Neenstetten 1967 e. V.
X-ORIGINAL-URL:http://schuetzenverein-neenstetten.de
X-WR-CALDESC:Veranstaltungen für Schützenverein Neenstetten 1967 e. V.
BEGIN:VTIMEZONE
TZID:UTC
BEGIN:STANDARD
TZOFFSETFROM:+0000
TZOFFSETTO:+0000
TZNAME:UTC
DTSTART:20180101T000000
END:STANDARD
END:VTIMEZONE
BEGIN:VEVENT
DTSTART;TZID=UTC:20180225T093000
DTEND;TZID=UTC:20180225T093000
DTSTAMP:20260420T090126
CREATED:20180121T111007Z
LAST-MODIFIED:20180121T111007Z
UID:389-1519551000-1519551000@schuetzenverein-neenstetten.de
SUMMARY:65. Kreisschützentag des Schützenkreises Ulm
DESCRIPTION:
URL:http://schuetzenverein-neenstetten.de/veranstaltung/65-kreisschuetzentag-des-schuetzenkreises-ulm/
LOCATION:Schützenheim Scharenstetten\, Dornstadt-Scharenstetten\, 89160
CATEGORIES:Allgemein
END:VEVENT
END:VCALENDAR